BEGIN:VCALENDAR
VERSION:2.0
PRODID:-//Nebraska Appleseed - ECPv6.15.20//NONSGML v1.0//EN
CALSCALE:GREGORIAN
METHOD:PUBLISH
X-WR-CALNAME:Nebraska Appleseed
X-ORIGINAL-URL:https://neappleseed.org
X-WR-CALDESC:Events for Nebraska Appleseed
REFRESH-INTERVAL;VALUE=DURATION:PT1H
X-Robots-Tag:noindex
X-PUBLISHED-TTL:PT1H
BEGIN:VTIMEZONE
TZID:America/Chicago
BEGIN:DAYLIGHT
TZOFFSETFROM:-0600
TZOFFSETTO:-0500
TZNAME:CDT
DTSTART:20230312T080000
END:DAYLIGHT
BEGIN:STANDARD
TZOFFSETFROM:-0500
TZOFFSETTO:-0600
TZNAME:CST
DTSTART:20231105T070000
END:STANDARD
BEGIN:DAYLIGHT
TZOFFSETFROM:-0600
TZOFFSETTO:-0500
TZNAME:CDT
DTSTART:20240310T080000
END:DAYLIGHT
BEGIN:STANDARD
TZOFFSETFROM:-0500
TZOFFSETTO:-0600
TZNAME:CST
DTSTART:20241103T070000
END:STANDARD
BEGIN:DAYLIGHT
TZOFFSETFROM:-0600
TZOFFSETTO:-0500
TZNAME:CDT
DTSTART:20250309T080000
END:DAYLIGHT
BEGIN:STANDARD
TZOFFSETFROM:-0500
TZOFFSETTO:-0600
TZNAME:CST
DTSTART:20251102T070000
END:STANDARD
END:VTIMEZONE
BEGIN:VEVENT
DTSTART;TZID=America/Chicago:20240501T170000
DTEND;TZID=America/Chicago:20240501T183000
DTSTAMP:20260421T033834
CREATED:20240418T204454Z
LAST-MODIFIED:20240708T151833Z
UID:44696-1714582800-1714588200@neappleseed.org
SUMMARY:Appleseed Post-Session Happy Hour
DESCRIPTION:You’re invited to gather with Nebraska Appleseed and other advocates for a post-session happy hour! \nWe’ll recap the 2024 legislative session and share how you can get involved on two key ballot initiative campaigns: Paid Sick Leave for Nebraskans and Protect Our Rights. \nAppleseed Post-Session Happy Hour\nWednesday\, May 1\, 2024\nCasual come and go from 5:00 – 6:30 p.m.\nBrief Legislative Update at 5:45 p.m. \nCosmic Eye Brewing\n6800 P St\, #300\nLincoln\, NE \nLight refreshments will be provided with a cash bar. \nPlan to attend? RSVP to let us know! RSVP is not required\, but appreciated to help us anticipate numbers. \nQuestions? Contact Denni Mitchell\, dmitchell@neappleseed.org. \nThank you for being a part of the Appleseed community. We look forward to catching up with you at Cosmic Eye Brewing on Wednesday\, May 1!
URL:https://neappleseed.org/event/appleseed-post-session-happy-hour
LOCATION:Cosmic Eye Brewing\, 6800 P St\, #300\, Lincoln\, NE\, 68505\, United States
ORGANIZER;CN="Nic Swiercek":MAILTO:nswiercek@neappleseed.org
END:VEVENT
BEGIN:VEVENT
DTSTART;TZID=America/Chicago:20240511T120000
DTEND;TZID=America/Chicago:20240511T133000
DTSTAMP:20260421T033834
CREATED:20240506T155111Z
LAST-MODIFIED:20240708T151832Z
UID:44748-1715428800-1715434200@neappleseed.org
SUMMARY:Medicaid Renewal Community Conversation
DESCRIPTION:Join our Medicaid Renewal Community Conversation on Saturday\, May 11th\, from 12-1:30 pm at Essential Gathering Place. \nDinner\, childcare\, and a gift will be available for families who attend. \nCome with questions\, and we’ll come with as many answers as possible! \nRegistration is required!
URL:https://neappleseed.org/event/medicaid-renewal-community-conversation
LOCATION:Essential Gathering Place\, 5001 N 42nd St\, Omaha\, NE\, 68111\, United States
ORGANIZER;CN="Kelsey Arends":MAILTO:karends@neappleseed.org
END:VEVENT
BEGIN:VEVENT
DTSTART;TZID=America/Chicago:20240530T173000
DTEND;TZID=America/Chicago:20240530T190000
DTSTAMP:20260421T033834
CREATED:20240514T195643Z
LAST-MODIFIED:20240708T151832Z
UID:44783-1717090200-1717095600@neappleseed.org
SUMMARY:Housing Advocate Potluck
DESCRIPTION:Join Lincoln Housing Advocates for our May gathering! We’ll hear from Hoppe Development & NeighborWorks Lincoln about how they develop affordable housing and what factors impact unit affordability\, including construction costs\, public financing tools\, and more! \nDinner will be provided\, and children are welcome to attend! \nLet us know you’re coming by RSVPing at https://bit.ly/Affordable4WhomMay30. RSVPing is not necessary but helps us plan to have enough food for everyone.
URL:https://neappleseed.org/event/housing-advocate-potluck-2
LOCATION:Loren Corey Eiseley Library\, 1530 Superior St\, Lincoln\, NE\, 68521\, United States
ORGANIZER;CN="Elizabeth Engman":MAILTO:eengman@neappleseed.org
END:VEVENT
END:VCALENDAR