BEGIN:VCALENDAR
VERSION:2.0
PRODID:-//Nebraska Appleseed - ECPv6.15.20//NONSGML v1.0//EN
CALSCALE:GREGORIAN
METHOD:PUBLISH
X-WR-CALNAME:Nebraska Appleseed
X-ORIGINAL-URL:https://neappleseed.org
X-WR-CALDESC:Events for Nebraska Appleseed
REFRESH-INTERVAL;VALUE=DURATION:PT1H
X-Robots-Tag:noindex
X-PUBLISHED-TTL:PT1H
BEGIN:VTIMEZONE
TZID:America/Chicago
BEGIN:DAYLIGHT
TZOFFSETFROM:-0600
TZOFFSETTO:-0500
TZNAME:CDT
DTSTART:20220313T080000
END:DAYLIGHT
BEGIN:STANDARD
TZOFFSETFROM:-0500
TZOFFSETTO:-0600
TZNAME:CST
DTSTART:20221106T070000
END:STANDARD
BEGIN:DAYLIGHT
TZOFFSETFROM:-0600
TZOFFSETTO:-0500
TZNAME:CDT
DTSTART:20230312T080000
END:DAYLIGHT
BEGIN:STANDARD
TZOFFSETFROM:-0500
TZOFFSETTO:-0600
TZNAME:CST
DTSTART:20231105T070000
END:STANDARD
BEGIN:DAYLIGHT
TZOFFSETFROM:-0600
TZOFFSETTO:-0500
TZNAME:CDT
DTSTART:20240310T080000
END:DAYLIGHT
BEGIN:STANDARD
TZOFFSETFROM:-0500
TZOFFSETTO:-0600
TZNAME:CST
DTSTART:20241103T070000
END:STANDARD
END:VTIMEZONE
BEGIN:VEVENT
DTSTART;TZID=America/Chicago:20230501T080000
DTEND;TZID=America/Chicago:20230524T235900
DTSTAMP:20260423T205149
CREATED:20230412T173405Z
LAST-MODIFIED:20240708T151843Z
UID:42550-1682928000-1684972740@neappleseed.org
SUMMARY:Give to Lincoln Day
DESCRIPTION:Give to Lincoln Day is one of the biggest opportunities all year to make a huge impact on building a just\, vibrant\, and inclusive Nebraska. \nContribute to Appleseed now through May 24th and your support not only increases a proportional match of $500\,000 from Lincoln Community Foundation\, but generous friends of Appleseed will also give a $10\,000 bonus when we achieve our goal of 350 supporters during Give to Lincoln Day! \nDonate May 1-24 and spread the word to friends and family. You can give online\, offline\, IRA\, or LCF Donor Advised Funds\, just click here to learn all the ways to give. \nJoin Appleseed in finding ways to make sure that every Nebraskan has the rights\, resources\, and opportunities to thrive! \nVisit givetolincoln.com/nonprofits/nebraska-appleseed and support Appleseed during Give to Lincoln Day.
URL:https://neappleseed.org/event/give-to-lincoln-day
LOCATION:Virtual
ATTACH;FMTTYPE=image/png:https://neappleseed.org/wp-content/uploads/2023/04/GTLD-Webpage-Graphic.png
ORGANIZER;CN="Drew Duncan":MAILTO:dduncan@neappleseed.org
END:VEVENT
BEGIN:VEVENT
DTSTART;TZID=America/Chicago:20230516T130000
DTEND;TZID=America/Chicago:20230516T133000
DTSTAMP:20260423T205149
CREATED:20230510T215112Z
LAST-MODIFIED:20240708T151842Z
UID:42815-1684242000-1684243800@neappleseed.org
SUMMARY:Take Action Tuesday: Protect Voting Access in Nebraska!
DESCRIPTION:Join us in taking action to urge our state senators to protect voting access in Nebraska. Senators are currently discussing how they will implement the voter identification ballot initiative that passed last fall in Nebraska. \nWe know voter ID restrictions create barriers that disproportionately impact voters who are rural\, low-income\, elderly\, disabled\, in college\, and/or voters of color. \nSo\, it is important that state senators hear from community members that we want to be sure eligible voters in Nebraska are not excluded from participating in our democracy. \nWe will walk through taking the action together – no prior experience or expertise necessary. All are welcome! https://fb.me/e/wQ9edbC9
URL:https://neappleseed.org/event/take-action-tuesday-protect-voting-access-in-nebraska
LOCATION:Virtual
ORGANIZER;CN="Clarissa Guzman":MAILTO:cguzman@neappleseed.org
END:VEVENT
END:VCALENDAR