BEGIN:VCALENDAR
VERSION:2.0
PRODID:-//Nebraska Appleseed - ECPv6.15.20//NONSGML v1.0//EN
CALSCALE:GREGORIAN
METHOD:PUBLISH
X-ORIGINAL-URL:https://neappleseed.org
X-WR-CALDESC:Events for Nebraska Appleseed
REFRESH-INTERVAL;VALUE=DURATION:PT1H
X-Robots-Tag:noindex
X-PUBLISHED-TTL:PT1H
BEGIN:VTIMEZONE
TZID:America/Chicago
BEGIN:DAYLIGHT
TZOFFSETFROM:-0600
TZOFFSETTO:-0500
TZNAME:CDT
DTSTART:20210314T080000
END:DAYLIGHT
BEGIN:STANDARD
TZOFFSETFROM:-0500
TZOFFSETTO:-0600
TZNAME:CST
DTSTART:20211107T070000
END:STANDARD
BEGIN:DAYLIGHT
TZOFFSETFROM:-0600
TZOFFSETTO:-0500
TZNAME:CDT
DTSTART:20220313T080000
END:DAYLIGHT
BEGIN:STANDARD
TZOFFSETFROM:-0500
TZOFFSETTO:-0600
TZNAME:CST
DTSTART:20221106T070000
END:STANDARD
BEGIN:DAYLIGHT
TZOFFSETFROM:-0600
TZOFFSETTO:-0500
TZNAME:CDT
DTSTART:20230312T080000
END:DAYLIGHT
BEGIN:STANDARD
TZOFFSETFROM:-0500
TZOFFSETTO:-0600
TZNAME:CST
DTSTART:20231105T070000
END:STANDARD
END:VTIMEZONE
BEGIN:VEVENT
DTSTART;TZID=America/Chicago:20221103T190000
DTEND;TZID=America/Chicago:20221103T200000
DTSTAMP:20260424T063843
CREATED:20221003T155338Z
LAST-MODIFIED:20240708T151849Z
UID:40842-1667502000-1667505600@neappleseed.org
SUMMARY:Community Conversations: Improving Access to Health Care in Nebraska (English)
DESCRIPTION:Together\, we will learn and share what challenges Nebraskans face in accessing health care and discuss and dream ways to improve health care access in Nebraska.
URL:https://neappleseed.org/event/community-conversations-improving-access-to-health-care-in-nebraska-english-2
LOCATION:Virtual
END:VEVENT
BEGIN:VEVENT
DTSTART;VALUE=DATE:20221108
DTEND;VALUE=DATE:20221109
DTSTAMP:20260424T063843
CREATED:20221025T180634Z
LAST-MODIFIED:20240708T151848Z
UID:41092-1667865600-1667951999@neappleseed.org
SUMMARY:Election Day
DESCRIPTION:For more information: neappleseed.org/vote \n\nDROP OFF BALLOT AT YOUR LOCAL COUNTY ELECTION OFFICE:\n\nReturn your completed ballot by Tuesday\, November 8\, 2022 at 8 pm CT / 7 pm MT. No stamp or postage necessary\, but don’t forget to sign the envelope!\n\n\nVOTE EARLY:\n\nYou can vote early in person at your county election office between October 11\, 2022 and November 7\, 2022. Check hours and the location of your county election office.\n\n\nVOTE ON ELECTION DAY:\n\nYou can vote in person on election day: Tuesday\, November 8\, 2022. Polls are open from 8 am to 8 pm CT / 7 am to 7 pm MT. Find your polling place.
URL:https://neappleseed.org/event/election-day
END:VEVENT
BEGIN:VEVENT
DTSTART;TZID=America/Chicago:20221109T180000
DTEND;TZID=America/Chicago:20221109T193000
DTSTAMP:20260424T063843
CREATED:20221031T152440Z
LAST-MODIFIED:20240708T151848Z
UID:41124-1668016800-1668022200@neappleseed.org
SUMMARY:TOWN HALL WITH SENATOR MCKINNEY – RACISM AND DISPROPORTIONALITY IN NEBRASKA’S CHILD WELFARE SYSTEM
DESCRIPTION:Please join Nebraska Appleseed for a statewide Townhall and listening session on the issue of racism and disproportionality in Nebraska’s child welfare system. This is in conjunction with Sen. McKinney’s interim study (LR 404) on this issue. Parents\, families\, youth\, community members\, and partners are invited. \nIf you have any questions\, please contact Schalisha Walker at swalker@neappleseed.org or text or call 402-218-1848. \nDate: November 9th\nTime: 6pm-7:30pm\nLocation: Zoom \nRegister
URL:https://neappleseed.org/event/town-hall-with-senator-mckinney-racism-and-disproportionality-in-nebraskas-child-welfare-system
LOCATION:Virtual
ORGANIZER;CN="Schalisha Walker":MAILTO:swalker@neappleseed.org
END:VEVENT
BEGIN:VEVENT
DTSTART;TZID=America/Chicago:20221130T073000
DTEND;TZID=America/Chicago:20221130T120000
DTSTAMP:20260424T063843
CREATED:20221121T162710Z
LAST-MODIFIED:20240708T151848Z
UID:41206-1669793400-1669809600@neappleseed.org
SUMMARY:Nebraska Child Health and Educators Alliance Conference
DESCRIPTION:Featuring remarks by: \nState Senator John Stinner\, LD48 \nState Senator John Arch\, LD14 \nMatt Blomstedt\, Commissioner\, Nebraska Department of Education \nKevin Bagley\, Director\, Nebraska Health and Human Services\, Division of Medicaid and Long-Term Care \nErin Schneider\, Associate Director of External Affairs\, Behavioral Health Education Center of Nebraska\, UNMC \n  \nQuestions? Contact Aubrianna Faustman at afaustman@acgusa.net or visit https://nechildhealtheducationalliance.com/
URL:https://neappleseed.org/event/nebraska-child-health-and-educators-alliance-conference
LOCATION:BoysTown Auditorium\, 14100 Crawford Street\, BoysTown\, NE\, 68010\, United States
END:VEVENT
END:VCALENDAR