BEGIN:VCALENDAR
VERSION:2.0
PRODID:-//Nebraska Appleseed - ECPv6.15.20//NONSGML v1.0//EN
CALSCALE:GREGORIAN
METHOD:PUBLISH
X-WR-CALNAME:Nebraska Appleseed
X-ORIGINAL-URL:https://neappleseed.org
X-WR-CALDESC:Events for Nebraska Appleseed
REFRESH-INTERVAL;VALUE=DURATION:PT1H
X-Robots-Tag:noindex
X-PUBLISHED-TTL:PT1H
BEGIN:VTIMEZONE
TZID:America/Chicago
BEGIN:DAYLIGHT
TZOFFSETFROM:-0600
TZOFFSETTO:-0500
TZNAME:CDT
DTSTART:20210314T080000
END:DAYLIGHT
BEGIN:STANDARD
TZOFFSETFROM:-0500
TZOFFSETTO:-0600
TZNAME:CST
DTSTART:20211107T070000
END:STANDARD
BEGIN:DAYLIGHT
TZOFFSETFROM:-0600
TZOFFSETTO:-0500
TZNAME:CDT
DTSTART:20220313T080000
END:DAYLIGHT
BEGIN:STANDARD
TZOFFSETFROM:-0500
TZOFFSETTO:-0600
TZNAME:CST
DTSTART:20221106T070000
END:STANDARD
BEGIN:DAYLIGHT
TZOFFSETFROM:-0600
TZOFFSETTO:-0500
TZNAME:CDT
DTSTART:20230312T080000
END:DAYLIGHT
BEGIN:STANDARD
TZOFFSETFROM:-0500
TZOFFSETTO:-0600
TZNAME:CST
DTSTART:20231105T070000
END:STANDARD
END:VTIMEZONE
BEGIN:VEVENT
DTSTART;TZID=America/Chicago:20221006T160000
DTEND;TZID=America/Chicago:20221006T190000
DTSTAMP:20260424T084253
CREATED:20221003T153347Z
LAST-MODIFIED:20240708T151850Z
UID:40835-1665072000-1665082800@neappleseed.org
SUMMARY:Public Hearing for Minimum Wage Ballot Initiative
DESCRIPTION:Join your fellow Nebraskans in sharing why you will vote FOR Initiative 433.
URL:https://neappleseed.org/event/public-hearing-for-minimum-wage-ballot-initiative
LOCATION:Mid Plains Community College\, North Platte\, 601 W State Farm Rd\, North Platte\, NE\, 69101\, United States
END:VEVENT
BEGIN:VEVENT
DTSTART;TZID=America/Chicago:20221006T180000
DTEND;TZID=America/Chicago:20221006T203000
DTSTAMP:20260424T084253
CREATED:20220615T161031Z
LAST-MODIFIED:20240708T151853Z
UID:39859-1665079200-1665088200@neappleseed.org
SUMMARY:Good Apple Awards
DESCRIPTION:Join us as we honor people who stand up for justice for all Nebraskans\, and celebrate the year’s accomplishments with Nebraska Appleseed.\nVisit neappleseed.org/goodapple for more details\, including 2022 honorees\, sponsorship opportunities\, and tickets! \nQuestions? contact Drew Duncan at dduncan@neappleseed.org or (402) 438-8853 x137.
URL:https://neappleseed.org/event/good-apple-awards
LOCATION:Livestock Exchange Building Ballroom\, 4920 S 30th St\, Omaha\, 68107\, United States
ATTACH;FMTTYPE=image/png:https://neappleseed.org/wp-content/uploads/2022/06/2022-GAA-Web-Save-The-Date-.png
END:VEVENT
BEGIN:VEVENT
DTSTART;TZID=America/Chicago:20221011T180000
DTEND;TZID=America/Chicago:20221011T210000
DTSTAMP:20260424T084253
CREATED:20221003T163819Z
LAST-MODIFIED:20240708T151849Z
UID:40860-1665511200-1665522000@neappleseed.org
SUMMARY:Public Hearing for Minimum Wage Ballot Initiative
DESCRIPTION:Join your fellow Nebraskans in sharing why you will vote FOR Initiative 433.
URL:https://neappleseed.org/event/public-hearing-for-minimum-wage-ballot-initiative-2
LOCATION:The Thompson Alumni Center\, Bootstrapper Hall 6705 Dodge St\, Omaha\, NE\, 68182\, United States
END:VEVENT
BEGIN:VEVENT
DTSTART;TZID=America/Chicago:20221018T133000
DTEND;TZID=America/Chicago:20221018T163000
DTSTAMP:20260424T084253
CREATED:20221003T164035Z
LAST-MODIFIED:20240708T151849Z
UID:40864-1666099800-1666110600@neappleseed.org
SUMMARY:Public Hearing on the Minimum Wage Initiative
DESCRIPTION:Join your fellow Nebraskans in sharing why you will vote FOR Initiative 433.
URL:https://neappleseed.org/event/public-hearing-on-the-minimum-wage-initiative
LOCATION:Nebraska State Capitol\, Hearing Room 1525\, 1445 K St\, Lincoln\, NE\, 68509\, United States
END:VEVENT
BEGIN:VEVENT
DTSTART;TZID=America/Chicago:20221025T190000
DTEND;TZID=America/Chicago:20221025T200000
DTSTAMP:20260424T084253
CREATED:20221003T155448Z
LAST-MODIFIED:20240708T151849Z
UID:40845-1666724400-1666728000@neappleseed.org
SUMMARY:Community Conversations: Improving Access to Health Care in Nebraska (Spanish)
DESCRIPTION:Together\, we will learn and share what challenges Nebraskans face in accessing health care and discuss and dream ways to improve health care access in Nebraska.
URL:https://neappleseed.org/event/community-conversations-improving-access-to-health-care-in-nebraska-spanish
LOCATION:Virtual
END:VEVENT
BEGIN:VEVENT
DTSTART;TZID=America/Chicago:20221026T120000
DTEND;TZID=America/Chicago:20221026T130000
DTSTAMP:20260424T084253
CREATED:20221025T173340Z
LAST-MODIFIED:20240708T151849Z
UID:41087-1666785600-1666789200@neappleseed.org
SUMMARY:Presentation: Courts Matter to Voting Rights
DESCRIPTION:Join Here: https://us02web.zoom.us/j/83524138840?pwd=Sk9WSWJrZzhzVFZXOWdCT3Zmbk5HQT09
URL:https://neappleseed.org/event/presentation-courts-matter-to-voting-rights
LOCATION:Virtual
END:VEVENT
BEGIN:VEVENT
DTSTART;TZID=America/Chicago:20221027T170000
DTEND;TZID=America/Chicago:20221027T190000
DTSTAMP:20260424T084253
CREATED:20221012T222810Z
LAST-MODIFIED:20240708T151849Z
UID:40970-1666890000-1666897200@neappleseed.org
SUMMARY:Appleseed Appreciation Event
DESCRIPTION:NOTE: This event has moved to the Enclosed Shelter of Antelope Park. See map below. \nYou’re invited to join us and other Nebraska Appleseed supporters and partners as we give thanks for you being an important part of our advocacy community. \nCome and enjoy Apple Cider Donuts from Kimmel Orchard and warm apple cider with Appleseed staff\, board members\, and other changemakers working for justice and opportunity for all Nebraskans. \nThis is a casual come & go event from 5:00 p.m to 7:00 p.m. with fun fall activities\, yard games\, and brief remarks from our Executive Director Becky Gould at 5:45 p.m. \nRSVP at your earliest convenience to let us know if you will be able to attend. RSVP is not required but helps us to plan. \nIf you have any questions\, contact Drew Duncan at dduncan@neappleseed.org.
URL:https://neappleseed.org/event/appleseed-appreciation-event
LOCATION:Antelope Park – Enclosed Shelter\, 1650 Memorial Drive\, Lincoln\, NE\, 68502\, United States
END:VEVENT
BEGIN:VEVENT
DTSTART;TZID=America/Chicago:20221027T190000
DTEND;TZID=America/Chicago:20221027T200000
DTSTAMP:20260424T084253
CREATED:20221003T155626Z
LAST-MODIFIED:20240708T151849Z
UID:40848-1666897200-1666900800@neappleseed.org
SUMMARY:Community Conversations: Improving Access to Health Care in Nebraska (Spanish)
DESCRIPTION:Together\, we will learn and share what challenges Nebraskans face in accessing health care and discuss and dream ways to improve health care access in Nebraska.
URL:https://neappleseed.org/event/community-conversations-improving-access-to-health-care-in-nebraska-spanish-2
LOCATION:Virtual
END:VEVENT
BEGIN:VEVENT
DTSTART;TZID=America/Chicago:20221029T100000
DTEND;TZID=America/Chicago:20221029T110000
DTSTAMP:20260424T084253
CREATED:20221003T155234Z
LAST-MODIFIED:20240708T151850Z
UID:40839-1667037600-1667041200@neappleseed.org
SUMMARY:Community Conversations: Improving Access to Health Care in Nebraska (English)
DESCRIPTION:Together\, we will learn and share what challenges Nebraskans face in accessing health care and discuss and dream ways to improve health care access in Nebraska.
URL:https://neappleseed.org/event/community-conversations-improving-access-to-health-care-in-nebraska-english
LOCATION:Virtual
END:VEVENT
END:VCALENDAR