BEGIN:VCALENDAR
VERSION:2.0
PRODID:-//Nebraska Appleseed - ECPv6.15.20//NONSGML v1.0//EN
CALSCALE:GREGORIAN
METHOD:PUBLISH
X-WR-CALNAME:Nebraska Appleseed
X-ORIGINAL-URL:https://neappleseed.org
X-WR-CALDESC:Events for Nebraska Appleseed
REFRESH-INTERVAL;VALUE=DURATION:PT1H
X-Robots-Tag:noindex
X-PUBLISHED-TTL:PT1H
BEGIN:VTIMEZONE
TZID:America/Chicago
BEGIN:DAYLIGHT
TZOFFSETFROM:-0600
TZOFFSETTO:-0500
TZNAME:CDT
DTSTART:20230312T080000
END:DAYLIGHT
BEGIN:STANDARD
TZOFFSETFROM:-0500
TZOFFSETTO:-0600
TZNAME:CST
DTSTART:20231105T070000
END:STANDARD
BEGIN:DAYLIGHT
TZOFFSETFROM:-0600
TZOFFSETTO:-0500
TZNAME:CDT
DTSTART:20240310T080000
END:DAYLIGHT
BEGIN:STANDARD
TZOFFSETFROM:-0500
TZOFFSETTO:-0600
TZNAME:CST
DTSTART:20241103T070000
END:STANDARD
BEGIN:DAYLIGHT
TZOFFSETFROM:-0600
TZOFFSETTO:-0500
TZNAME:CDT
DTSTART:20250309T080000
END:DAYLIGHT
BEGIN:STANDARD
TZOFFSETFROM:-0500
TZOFFSETTO:-0600
TZNAME:CST
DTSTART:20251102T070000
END:STANDARD
END:VTIMEZONE
BEGIN:VEVENT
DTSTART;TZID=America/Chicago:20240511T120000
DTEND;TZID=America/Chicago:20240511T133000
DTSTAMP:20260421T050121
CREATED:20240506T155111Z
LAST-MODIFIED:20240708T151832Z
UID:44748-1715428800-1715434200@neappleseed.org
SUMMARY:Medicaid Renewal Community Conversation
DESCRIPTION:Join our Medicaid Renewal Community Conversation on Saturday\, May 11th\, from 12-1:30 pm at Essential Gathering Place. \nDinner\, childcare\, and a gift will be available for families who attend. \nCome with questions\, and we’ll come with as many answers as possible! \nRegistration is required!
URL:https://neappleseed.org/event/medicaid-renewal-community-conversation
LOCATION:Essential Gathering Place\, 5001 N 42nd St\, Omaha\, NE\, 68111\, United States
ORGANIZER;CN="Kelsey Arends":MAILTO:karends@neappleseed.org
END:VEVENT
END:VCALENDAR