BEGIN:VCALENDAR
VERSION:2.0
PRODID:-//Nebraska Appleseed - ECPv6.15.20//NONSGML v1.0//EN
CALSCALE:GREGORIAN
METHOD:PUBLISH
X-ORIGINAL-URL:https://neappleseed.org
X-WR-CALDESC:Events for Nebraska Appleseed
REFRESH-INTERVAL;VALUE=DURATION:PT1H
X-Robots-Tag:noindex
X-PUBLISHED-TTL:PT1H
BEGIN:VTIMEZONE
TZID:America/Chicago
BEGIN:DAYLIGHT
TZOFFSETFROM:-0600
TZOFFSETTO:-0500
TZNAME:CDT
DTSTART:20230312T080000
END:DAYLIGHT
BEGIN:STANDARD
TZOFFSETFROM:-0500
TZOFFSETTO:-0600
TZNAME:CST
DTSTART:20231105T070000
END:STANDARD
BEGIN:DAYLIGHT
TZOFFSETFROM:-0600
TZOFFSETTO:-0500
TZNAME:CDT
DTSTART:20240310T080000
END:DAYLIGHT
BEGIN:STANDARD
TZOFFSETFROM:-0500
TZOFFSETTO:-0600
TZNAME:CST
DTSTART:20241103T070000
END:STANDARD
BEGIN:DAYLIGHT
TZOFFSETFROM:-0600
TZOFFSETTO:-0500
TZNAME:CDT
DTSTART:20250309T080000
END:DAYLIGHT
BEGIN:STANDARD
TZOFFSETFROM:-0500
TZOFFSETTO:-0600
TZNAME:CST
DTSTART:20251102T070000
END:STANDARD
END:VTIMEZONE
BEGIN:VEVENT
DTSTART;TZID=America/Chicago:20240328T173000
DTEND;TZID=America/Chicago:20240328T190000
DTSTAMP:20260423T052325
CREATED:20240311T192608Z
LAST-MODIFIED:20240708T151833Z
UID:44564-1711647000-1711652400@neappleseed.org
SUMMARY:Housing Advocate Workshop: Code Enforcement
DESCRIPTION:Join fellow Lincoln Housing Advocates as we learn from Sean Stewart with the Lincoln Building & Safety Department about code enforcement basics\, the review process\, and questions they frequently receive from the community. \nLincoln Housing Advocate’s goal is to promote and support systems that provide affordable\, accessible\, and safe housing for all! \nContact Chelsea Egenberger with any questions\, feedback\, & to join our housing advocacy listserv: Chelsea.Egenberger@nwlincoln.org 402-477-7181 EXT 204 \nThis event is co-hosted by NeighborWorks Lincoln & Collective Impact Lincoln.
URL:https://neappleseed.org/event/housing-advocate-workshop-code-enforcement
LOCATION:NeighborWorks Lincoln Meeting Room\, 2530 Q St\, Lincoln\, NE\, 68503\, United States
ORGANIZER;CN="Elizabeth Engman":MAILTO:eengman@neappleseed.org
END:VEVENT
END:VCALENDAR