BEGIN:VCALENDAR
VERSION:2.0
PRODID:-//Nebraska Appleseed - ECPv6.15.20//NONSGML v1.0//EN
CALSCALE:GREGORIAN
METHOD:PUBLISH
X-ORIGINAL-URL:https://neappleseed.org
X-WR-CALDESC:Events for Nebraska Appleseed
REFRESH-INTERVAL;VALUE=DURATION:PT1H
X-Robots-Tag:noindex
X-PUBLISHED-TTL:PT1H
BEGIN:VTIMEZONE
TZID:America/Chicago
BEGIN:DAYLIGHT
TZOFFSETFROM:-0600
TZOFFSETTO:-0500
TZNAME:CDT
DTSTART:20230312T080000
END:DAYLIGHT
BEGIN:STANDARD
TZOFFSETFROM:-0500
TZOFFSETTO:-0600
TZNAME:CST
DTSTART:20231105T070000
END:STANDARD
BEGIN:DAYLIGHT
TZOFFSETFROM:-0600
TZOFFSETTO:-0500
TZNAME:CDT
DTSTART:20240310T080000
END:DAYLIGHT
BEGIN:STANDARD
TZOFFSETFROM:-0500
TZOFFSETTO:-0600
TZNAME:CST
DTSTART:20241103T070000
END:STANDARD
BEGIN:DAYLIGHT
TZOFFSETFROM:-0600
TZOFFSETTO:-0500
TZNAME:CDT
DTSTART:20250309T080000
END:DAYLIGHT
BEGIN:STANDARD
TZOFFSETFROM:-0500
TZOFFSETTO:-0600
TZNAME:CST
DTSTART:20251102T070000
END:STANDARD
END:VTIMEZONE
BEGIN:VEVENT
DTSTART;TZID=America/Chicago:20240311T170000
DTEND;TZID=America/Chicago:20240311T190000
DTSTAMP:20260423T052429
CREATED:20240226T162945Z
LAST-MODIFIED:20240708T151834Z
UID:44492-1710176400-1710183600@neappleseed.org
SUMMARY:Mid-Session Mixer
DESCRIPTION:Gather with Nebraska Appleseed\, Voices for Children in Nebraska\, and the Women’s Fund of Omaha to get to know other Nebraska change makers\, get an update on the 2024 Nebraska Legislative session\, and learn how you can get involved! \nLight refreshments will be provided. A cash bar will be available. \nClick here to register!
URL:https://neappleseed.org/event/mid-session-mixer
LOCATION:Zipline Downtown Omaha Taproom\, 721 N. 14th St.\, Omaha\, NE\, 68102\, United States
ORGANIZER;CN="Nic Swiercek":MAILTO:nswiercek@neappleseed.org
END:VEVENT
END:VCALENDAR