BEGIN:VCALENDAR
VERSION:2.0
PRODID:-//Nebraska Appleseed - ECPv6.15.20//NONSGML v1.0//EN
CALSCALE:GREGORIAN
METHOD:PUBLISH
X-WR-CALNAME:Nebraska Appleseed
X-ORIGINAL-URL:https://neappleseed.org
X-WR-CALDESC:Events for Nebraska Appleseed
REFRESH-INTERVAL;VALUE=DURATION:PT1H
X-Robots-Tag:noindex
X-PUBLISHED-TTL:PT1H
BEGIN:VTIMEZONE
TZID:America/Chicago
BEGIN:DAYLIGHT
TZOFFSETFROM:-0600
TZOFFSETTO:-0500
TZNAME:CDT
DTSTART:20230312T080000
END:DAYLIGHT
BEGIN:STANDARD
TZOFFSETFROM:-0500
TZOFFSETTO:-0600
TZNAME:CST
DTSTART:20231105T070000
END:STANDARD
BEGIN:DAYLIGHT
TZOFFSETFROM:-0600
TZOFFSETTO:-0500
TZNAME:CDT
DTSTART:20240310T080000
END:DAYLIGHT
BEGIN:STANDARD
TZOFFSETFROM:-0500
TZOFFSETTO:-0600
TZNAME:CST
DTSTART:20241103T070000
END:STANDARD
BEGIN:DAYLIGHT
TZOFFSETFROM:-0600
TZOFFSETTO:-0500
TZNAME:CDT
DTSTART:20250309T080000
END:DAYLIGHT
BEGIN:STANDARD
TZOFFSETFROM:-0500
TZOFFSETTO:-0600
TZNAME:CST
DTSTART:20251102T070000
END:STANDARD
END:VTIMEZONE
BEGIN:VEVENT
DTSTART;TZID=America/Chicago:20240125T173000
DTEND;TZID=America/Chicago:20240125T183000
DTSTAMP:20260423T084310
CREATED:20240117T203455Z
LAST-MODIFIED:20240708T151834Z
UID:44309-1706203800-1706207400@neappleseed.org
SUMMARY:Housing Advocates Guide to the Legislative Session
DESCRIPTION:Join Collective Impact Lincoln (a partnership between Nebraska Appleseed and Civic Nebraska) to learn about housing bills this session and how you can advocate for affordable\, accessible\, and safe housing! \nWe will discuss: \n\nWhich housing bills we’re keeping track of\nHow these housing bills would impact our community\nHow and when to advocate for these bills to make your voice heard\n\nNo prior experience or knowledge required\, come as you are! \nPlease RSVP for the Zoom link at bit.ly/CIL-GUIDE-24 \nFacebook event: https://fb.me/e/683cB8MYR
URL:https://neappleseed.org/cil-guide-24
LOCATION:Virtual
ORGANIZER;CN="Elizabeth Engman":MAILTO:eengman@neappleseed.org
END:VEVENT
END:VCALENDAR