BEGIN:VCALENDAR
VERSION:2.0
PRODID:-//Nebraska Appleseed - ECPv6.15.20//NONSGML v1.0//EN
CALSCALE:GREGORIAN
METHOD:PUBLISH
X-WR-CALNAME:Nebraska Appleseed
X-ORIGINAL-URL:https://neappleseed.org
X-WR-CALDESC:Events for Nebraska Appleseed
REFRESH-INTERVAL;VALUE=DURATION:PT1H
X-Robots-Tag:noindex
X-PUBLISHED-TTL:PT1H
BEGIN:VTIMEZONE
TZID:America/Chicago
BEGIN:DAYLIGHT
TZOFFSETFROM:-0600
TZOFFSETTO:-0500
TZNAME:CDT
DTSTART:20230312T080000
END:DAYLIGHT
BEGIN:STANDARD
TZOFFSETFROM:-0500
TZOFFSETTO:-0600
TZNAME:CST
DTSTART:20231105T070000
END:STANDARD
BEGIN:DAYLIGHT
TZOFFSETFROM:-0600
TZOFFSETTO:-0500
TZNAME:CDT
DTSTART:20240310T080000
END:DAYLIGHT
BEGIN:STANDARD
TZOFFSETFROM:-0500
TZOFFSETTO:-0600
TZNAME:CST
DTSTART:20241103T070000
END:STANDARD
BEGIN:DAYLIGHT
TZOFFSETFROM:-0600
TZOFFSETTO:-0500
TZNAME:CDT
DTSTART:20250309T080000
END:DAYLIGHT
BEGIN:STANDARD
TZOFFSETFROM:-0500
TZOFFSETTO:-0600
TZNAME:CST
DTSTART:20251102T070000
END:STANDARD
END:VTIMEZONE
BEGIN:VEVENT
DTSTART;TZID=America/Chicago:20240116T180000
DTEND;TZID=America/Chicago:20240116T193000
DTSTAMP:20260423T084235
CREATED:20231215T192913Z
LAST-MODIFIED:20240708T151836Z
UID:44065-1705428000-1705433400@neappleseed.org
SUMMARY:How to Make Your Voice Heard in Nebraska’s Legislature
DESCRIPTION:Advocating for the first time can feel like a huge step\, but you don’t have to learn the many ways you can engage in Nebraska policy changes alone! \nJoin us and others from the community on Tuesday\, January 16 from 6:00 PM – 7:30 PM CT for a virtual beginner’s workshop highlighting how you can use the power of your voice to advocate on topics you care about. We will cover the basics of Nebraska state government\, how a bill becomes law\, and how you can use your voice to make an impact in multiple ways.  \nThis virtual session is open to anyone who wants to learn the basics of advocating at the legislature. No previous experience or knowledge is required! Bring yourself\, invite your friends\, and join the conversation.
URL:https://neappleseed.org/event/how-to-make-your-voice-heard-in-nebraskas-legislature
LOCATION:Virtual
ORGANIZER;CN="Schalisha Walker":MAILTO:swalker@neappleseed.org
END:VEVENT
END:VCALENDAR