BEGIN:VCALENDAR
VERSION:2.0
PRODID:-//Nebraska Appleseed - ECPv6.15.20//NONSGML v1.0//EN
CALSCALE:GREGORIAN
METHOD:PUBLISH
X-ORIGINAL-URL:https://neappleseed.org
X-WR-CALDESC:Events for Nebraska Appleseed
REFRESH-INTERVAL;VALUE=DURATION:PT1H
X-Robots-Tag:noindex
X-PUBLISHED-TTL:PT1H
BEGIN:VTIMEZONE
TZID:America/Chicago
BEGIN:DAYLIGHT
TZOFFSETFROM:-0600
TZOFFSETTO:-0500
TZNAME:CDT
DTSTART:20220313T080000
END:DAYLIGHT
BEGIN:STANDARD
TZOFFSETFROM:-0500
TZOFFSETTO:-0600
TZNAME:CST
DTSTART:20221106T070000
END:STANDARD
BEGIN:DAYLIGHT
TZOFFSETFROM:-0600
TZOFFSETTO:-0500
TZNAME:CDT
DTSTART:20230312T080000
END:DAYLIGHT
BEGIN:STANDARD
TZOFFSETFROM:-0500
TZOFFSETTO:-0600
TZNAME:CST
DTSTART:20231105T070000
END:STANDARD
BEGIN:DAYLIGHT
TZOFFSETFROM:-0600
TZOFFSETTO:-0500
TZNAME:CDT
DTSTART:20240310T080000
END:DAYLIGHT
BEGIN:STANDARD
TZOFFSETFROM:-0500
TZOFFSETTO:-0600
TZNAME:CST
DTSTART:20241103T070000
END:STANDARD
END:VTIMEZONE
BEGIN:VEVENT
DTSTART;TZID=America/Chicago:20231026T173000
DTEND;TZID=America/Chicago:20231026T193000
DTSTAMP:20260423T141545
CREATED:20231023T153820Z
LAST-MODIFIED:20240708T151837Z
UID:43816-1698341400-1698348600@neappleseed.org
SUMMARY:Housing Advocates Potluck
DESCRIPTION:Hey neighbors! Join us to connect with other housing advocates around Lincoln and explore ways we can use our collective power to strengthen Lincoln! \nThis potluck is for Lincolnites who care about affordable\, safe\, and accessible housing to get to know one another and discuss housing topics that are important to them and that may inspire future advocacy projects and collaborations. While we encourage folx to bring a food dish to share\, it is not required\, and we always end up with lots of delicious food. We look forward to having you join us again or for the first time! \nTogether\, we will: \n\nShare a lovely meal together\nCreate a shared agenda for which housing topics we’d like to discuss as a group\nMaybe break out into small group discussions on the housing issues that are important to you or continue the conversation as a large group\nShout out upcoming events\, projects\, and any other announcements\n\nFor any questions\, please contact Allie Christianson at allie.christianson@civicnebraska.org or (402) 312-2025.
URL:https://neappleseed.org/event/housing-advocates-potluck
LOCATION:NeighborWorks Lincoln Meeting Room\, 2530 Q St\, Lincoln\, NE\, 68503\, United States
ORGANIZER;CN="Elizabeth Engman":MAILTO:eengman@neappleseed.org
END:VEVENT
END:VCALENDAR