BEGIN:VCALENDAR
VERSION:2.0
PRODID:-//Nebraska Appleseed - ECPv6.15.20//NONSGML v1.0//EN
CALSCALE:GREGORIAN
METHOD:PUBLISH
X-WR-CALNAME:Nebraska Appleseed
X-ORIGINAL-URL:https://neappleseed.org
X-WR-CALDESC:Events for Nebraska Appleseed
REFRESH-INTERVAL;VALUE=DURATION:PT1H
X-Robots-Tag:noindex
X-PUBLISHED-TTL:PT1H
BEGIN:VTIMEZONE
TZID:America/Chicago
BEGIN:DAYLIGHT
TZOFFSETFROM:-0600
TZOFFSETTO:-0500
TZNAME:CDT
DTSTART:20220313T080000
END:DAYLIGHT
BEGIN:STANDARD
TZOFFSETFROM:-0500
TZOFFSETTO:-0600
TZNAME:CST
DTSTART:20221106T070000
END:STANDARD
BEGIN:DAYLIGHT
TZOFFSETFROM:-0600
TZOFFSETTO:-0500
TZNAME:CDT
DTSTART:20230312T080000
END:DAYLIGHT
BEGIN:STANDARD
TZOFFSETFROM:-0500
TZOFFSETTO:-0600
TZNAME:CST
DTSTART:20231105T070000
END:STANDARD
BEGIN:DAYLIGHT
TZOFFSETFROM:-0600
TZOFFSETTO:-0500
TZNAME:CDT
DTSTART:20240310T080000
END:DAYLIGHT
BEGIN:STANDARD
TZOFFSETFROM:-0500
TZOFFSETTO:-0600
TZNAME:CST
DTSTART:20241103T070000
END:STANDARD
END:VTIMEZONE
BEGIN:VEVENT
DTSTART;TZID=America/Chicago:20230908T080000
DTEND;TZID=America/Chicago:20231008T220000
DTSTAMP:20260423T141341
CREATED:20230911T181112Z
LAST-MODIFIED:20240708T151838Z
UID:43562-1694160000-1696802400@neappleseed.org
SUMMARY:Welcoming Week! Nebraska Events
DESCRIPTION:Community members across Nebraska and the world are celebrating the values that unite us as neighbors\, parents\, and colleagues to make our communities more welcoming to all. \nClick here to find local events NEAR YOU!
URL:https://neappleseed.org/event/welcoming-week-nebraska-events
ORGANIZER;CN="Khenda Mustafa":MAILTO:kmustafa@neappleseed.org
END:VEVENT
BEGIN:VEVENT
DTSTART;TZID=America/Chicago:20231005T180000
DTEND;TZID=America/Chicago:20231005T203000
DTSTAMP:20260423T141341
CREATED:20230614T151216Z
LAST-MODIFIED:20240708T151840Z
UID:43019-1696528800-1696537800@neappleseed.org
SUMMARY:Good Apple Awards
DESCRIPTION:Join Nebraska Appleseed as we honor people who stand up for justice for all Nebraskans\, and celebrate the year’s accomplishments. \nVisit neappleseed.org/goodapple for more details\, including 2023 honorees\, sponsorship opportunities\, and tickets! \nQuestions? contact Drew Duncan at dduncan@neappleseed.org or (402) 438-8853 x137.
URL:https://neappleseed.org/event/good-apple-awards-2
LOCATION:Livestock Exchange Building Ballroom\, 4920 S 30th St\, Omaha\, 68107\, United States
ATTACH;FMTTYPE=image/png:https://neappleseed.org/wp-content/uploads/2023/06/Save-the-Date-2023-GAA.png
ORGANIZER;CN="Drew Duncan":MAILTO:dduncan@neappleseed.org
END:VEVENT
END:VCALENDAR