BEGIN:VCALENDAR
VERSION:2.0
PRODID:-//Nebraska Appleseed - ECPv6.15.20//NONSGML v1.0//EN
CALSCALE:GREGORIAN
METHOD:PUBLISH
X-WR-CALNAME:Nebraska Appleseed
X-ORIGINAL-URL:https://neappleseed.org
X-WR-CALDESC:Events for Nebraska Appleseed
REFRESH-INTERVAL;VALUE=DURATION:PT1H
X-Robots-Tag:noindex
X-PUBLISHED-TTL:PT1H
BEGIN:VTIMEZONE
TZID:America/Chicago
BEGIN:DAYLIGHT
TZOFFSETFROM:-0600
TZOFFSETTO:-0500
TZNAME:CDT
DTSTART:20220313T080000
END:DAYLIGHT
BEGIN:STANDARD
TZOFFSETFROM:-0500
TZOFFSETTO:-0600
TZNAME:CST
DTSTART:20221106T070000
END:STANDARD
BEGIN:DAYLIGHT
TZOFFSETFROM:-0600
TZOFFSETTO:-0500
TZNAME:CDT
DTSTART:20230312T080000
END:DAYLIGHT
BEGIN:STANDARD
TZOFFSETFROM:-0500
TZOFFSETTO:-0600
TZNAME:CST
DTSTART:20231105T070000
END:STANDARD
BEGIN:DAYLIGHT
TZOFFSETFROM:-0600
TZOFFSETTO:-0500
TZNAME:CDT
DTSTART:20240310T080000
END:DAYLIGHT
BEGIN:STANDARD
TZOFFSETFROM:-0500
TZOFFSETTO:-0600
TZNAME:CST
DTSTART:20241103T070000
END:STANDARD
END:VTIMEZONE
BEGIN:VEVENT
DTSTART;TZID=America/Chicago:20230701T080000
DTEND;TZID=America/Chicago:20230731T170000
DTSTAMP:20260423T191542
CREATED:20230711T195151Z
LAST-MODIFIED:20240708T151840Z
UID:43142-1688198400-1690822800@neappleseed.org
SUMMARY:Support Appleseed at Urban Abbey Throughout July!
DESCRIPTION:Urban Abbey partners with a different local nonprofit each month\, donating 10% of coffee bar sales directly to the organization. Nebraska Appleseed is thrilled to be the Urban Abbey’s Community Partner for July! \nIf you’re in Omaha\, stop by for some coffee or tea\, and support our fight for justice! Thank you for supporting Appleseed and local businesses like Urban Abbey.
URL:https://neappleseed.org/event/support-appleseed-at-urban-abbey-throughout-july
LOCATION:Urban Abbey\, 1026 Jackson Street\, Omaha\, NE\, 68102\, United States
ORGANIZER;CN="Nic Swiercek":MAILTO:nswiercek@neappleseed.org
END:VEVENT
END:VCALENDAR