BEGIN:VCALENDAR
VERSION:2.0
PRODID:-//Nebraska Appleseed - ECPv6.15.20//NONSGML v1.0//EN
CALSCALE:GREGORIAN
METHOD:PUBLISH
X-ORIGINAL-URL:https://neappleseed.org
X-WR-CALDESC:Events for Nebraska Appleseed
REFRESH-INTERVAL;VALUE=DURATION:PT1H
X-Robots-Tag:noindex
X-PUBLISHED-TTL:PT1H
BEGIN:VTIMEZONE
TZID:America/Chicago
BEGIN:DAYLIGHT
TZOFFSETFROM:-0600
TZOFFSETTO:-0500
TZNAME:CDT
DTSTART:20220313T080000
END:DAYLIGHT
BEGIN:STANDARD
TZOFFSETFROM:-0500
TZOFFSETTO:-0600
TZNAME:CST
DTSTART:20221106T070000
END:STANDARD
BEGIN:DAYLIGHT
TZOFFSETFROM:-0600
TZOFFSETTO:-0500
TZNAME:CDT
DTSTART:20230312T080000
END:DAYLIGHT
BEGIN:STANDARD
TZOFFSETFROM:-0500
TZOFFSETTO:-0600
TZNAME:CST
DTSTART:20231105T070000
END:STANDARD
BEGIN:DAYLIGHT
TZOFFSETFROM:-0600
TZOFFSETTO:-0500
TZNAME:CDT
DTSTART:20240310T080000
END:DAYLIGHT
BEGIN:STANDARD
TZOFFSETFROM:-0500
TZOFFSETTO:-0600
TZNAME:CST
DTSTART:20241103T070000
END:STANDARD
END:VTIMEZONE
BEGIN:VEVENT
DTSTART;VALUE=DATE:20230401
DTEND;VALUE=DATE:20230501
DTSTAMP:20260424T000653
CREATED:20230307T172845Z
LAST-MODIFIED:20240708T151844Z
UID:42307-1680307200-1682899199@neappleseed.org
SUMMARY:Seed the Change - Round-up for Appleseed
DESCRIPTION:One way Open Harvest Co-op Grocery lives out its cooperative values is through robust community donations. \nNebraska Appleseed is thrilled to be selected as a part of Open Harvests’ Seed Program — a simple yet powerful community giving opportunity that allows customers to “round-up” their grocery bill.  \nSo during the month of April\, stop by Open Harvest Co-op Grocery and consider rounding up your bill to support Appleseed! Thank you for all your support to Appleseed and local businesses like Open Harvest.
URL:https://neappleseed.org/event/seed-the-change-round-up-for-appleseed
LOCATION:Open Harvest\, 330 S 21st St #104\, Lincoln\, NE\, 68510\, United States
ATTACH;FMTTYPE=image/png:https://neappleseed.org/wp-content/uploads/2023/03/SEED-Program-Webpage-Graphic.png
ORGANIZER;CN="Drew Duncan":MAILTO:dduncan@neappleseed.org
END:VEVENT
BEGIN:VEVENT
DTSTART;TZID=America/Chicago:20230406T183000
DTEND;TZID=America/Chicago:20230406T193000
DTSTAMP:20260424T000653
CREATED:20230330T183900Z
LAST-MODIFIED:20240708T151843Z
UID:42473-1680805800-1680809400@neappleseed.org
SUMMARY:Long Distance Advocacy Workshop
DESCRIPTION:Every Nebraskan should be able to make their voice heard on issues they care about. However\, we know that for folks who live further from Lincoln or who lack reliable transportation\, it can be hard to know how to make a difference on issues that affect our state. \nJoin us on April 6 at 6:30 pm for a virtual workshop covering multiple ways you can advocate for the issues you care about when you can’t make it to the Capitol building. \nRegister online. \nThis workshop will offer: \n\nTried and true techniques we’ve used to raise awareness and build support on issues you care about\nOptions and strategies for contacting your senators\nOpportunities to learn from each other’s knowledge and experience with advocacy\n\nWe hope you can join us for this conversation! Please contact mhamann@neappleseed.org if you have any questions or challenges registering. \nThis event is the first of a series in partnership with Nebraska Poor People’s Campaign\, Civic Nebraska\, Nebraska Interfaith Power & Light all centered around strengthening community members’ advocacy capacity. Look out for upcoming opportunities here!
URL:https://neappleseed.org/event/long-distance-advocacy-workshop
LOCATION:Virtual
ATTACH;FMTTYPE=image/png:https://neappleseed.org/wp-content/uploads/2020/12/take_action_fb.png
ORGANIZER;CN="Megan Hamann":MAILTO:mhamann@neappleseed.org
END:VEVENT
END:VCALENDAR