BEGIN:VCALENDAR
VERSION:2.0
PRODID:-//Nebraska Appleseed - ECPv6.15.20//NONSGML v1.0//EN
CALSCALE:GREGORIAN
METHOD:PUBLISH
X-WR-CALNAME:Nebraska Appleseed
X-ORIGINAL-URL:https://neappleseed.org
X-WR-CALDESC:Events for Nebraska Appleseed
REFRESH-INTERVAL;VALUE=DURATION:PT1H
X-Robots-Tag:noindex
X-PUBLISHED-TTL:PT1H
BEGIN:VTIMEZONE
TZID:America/Chicago
BEGIN:DAYLIGHT
TZOFFSETFROM:-0600
TZOFFSETTO:-0500
TZNAME:CDT
DTSTART:20220313T080000
END:DAYLIGHT
BEGIN:STANDARD
TZOFFSETFROM:-0500
TZOFFSETTO:-0600
TZNAME:CST
DTSTART:20221106T070000
END:STANDARD
BEGIN:DAYLIGHT
TZOFFSETFROM:-0600
TZOFFSETTO:-0500
TZNAME:CDT
DTSTART:20230312T080000
END:DAYLIGHT
BEGIN:STANDARD
TZOFFSETFROM:-0500
TZOFFSETTO:-0600
TZNAME:CST
DTSTART:20231105T070000
END:STANDARD
BEGIN:DAYLIGHT
TZOFFSETFROM:-0600
TZOFFSETTO:-0500
TZNAME:CDT
DTSTART:20240310T080000
END:DAYLIGHT
BEGIN:STANDARD
TZOFFSETFROM:-0500
TZOFFSETTO:-0600
TZNAME:CST
DTSTART:20241103T070000
END:STANDARD
END:VTIMEZONE
BEGIN:VEVENT
DTSTART;TZID=America/Chicago:20230321T170000
DTEND;TZID=America/Chicago:20230321T183000
DTSTAMP:20260424T015819
CREATED:20230227T164002Z
LAST-MODIFIED:20240708T151844Z
UID:42230-1679418000-1679423400@neappleseed.org
SUMMARY:Appleseed Mid-Session Mixer
DESCRIPTION:You’re invited to join Nebraska Appleseed and hear about important updates to the 2023 Legislative Session. \nGather with other Nebraska change makers\, get an update on Nebraska Appleseed’s priority bills\, and learn how you can get involved during the second half of the 2023 Legislative Session. \nLight refreshments will be provided and a cash bar is available. \nCasual come & go from 5:00 – 6:30 p.m.\nBrief Legislative Update at 5:30 p.m. \nREGISTER
URL:https://neappleseed.org/event/appleseed-mid-session-mixer
LOCATION:Zipline Beer Hall\, 5740 Hidcote Dr Ste B\, Lincoln\, NE\, 68516\, United States
ATTACH;FMTTYPE=image/png:https://neappleseed.org/wp-content/uploads/2023/02/Mid-Session-Mixer-Square-1080-×-1080-px.png
ORGANIZER;CN="Drew Duncan":MAILTO:dduncan@neappleseed.org
END:VEVENT
END:VCALENDAR