BEGIN:VCALENDAR
VERSION:2.0
PRODID:-//Nebraska Appleseed - ECPv6.15.20//NONSGML v1.0//EN
CALSCALE:GREGORIAN
METHOD:PUBLISH
X-ORIGINAL-URL:https://neappleseed.org
X-WR-CALDESC:Events for Nebraska Appleseed
REFRESH-INTERVAL;VALUE=DURATION:PT1H
X-Robots-Tag:noindex
X-PUBLISHED-TTL:PT1H
BEGIN:VTIMEZONE
TZID:America/Chicago
BEGIN:DAYLIGHT
TZOFFSETFROM:-0600
TZOFFSETTO:-0500
TZNAME:CDT
DTSTART:20210314T080000
END:DAYLIGHT
BEGIN:STANDARD
TZOFFSETFROM:-0500
TZOFFSETTO:-0600
TZNAME:CST
DTSTART:20211107T070000
END:STANDARD
BEGIN:DAYLIGHT
TZOFFSETFROM:-0600
TZOFFSETTO:-0500
TZNAME:CDT
DTSTART:20220313T080000
END:DAYLIGHT
BEGIN:STANDARD
TZOFFSETFROM:-0500
TZOFFSETTO:-0600
TZNAME:CST
DTSTART:20221106T070000
END:STANDARD
BEGIN:DAYLIGHT
TZOFFSETFROM:-0600
TZOFFSETTO:-0500
TZNAME:CDT
DTSTART:20230312T080000
END:DAYLIGHT
BEGIN:STANDARD
TZOFFSETFROM:-0500
TZOFFSETTO:-0600
TZNAME:CST
DTSTART:20231105T070000
END:STANDARD
END:VTIMEZONE
BEGIN:VEVENT
DTSTART;VALUE=DATE:20221108
DTEND;VALUE=DATE:20221109
DTSTAMP:20260424T082609
CREATED:20221025T180634Z
LAST-MODIFIED:20240708T151848Z
UID:41092-1667865600-1667951999@neappleseed.org
SUMMARY:Election Day
DESCRIPTION:For more information: neappleseed.org/vote \n\nDROP OFF BALLOT AT YOUR LOCAL COUNTY ELECTION OFFICE:\n\nReturn your completed ballot by Tuesday\, November 8\, 2022 at 8 pm CT / 7 pm MT. No stamp or postage necessary\, but don’t forget to sign the envelope!\n\n\nVOTE EARLY:\n\nYou can vote early in person at your county election office between October 11\, 2022 and November 7\, 2022. Check hours and the location of your county election office.\n\n\nVOTE ON ELECTION DAY:\n\nYou can vote in person on election day: Tuesday\, November 8\, 2022. Polls are open from 8 am to 8 pm CT / 7 am to 7 pm MT. Find your polling place.
URL:https://neappleseed.org/event/election-day
END:VEVENT
END:VCALENDAR