BEGIN:VCALENDAR
VERSION:2.0
PRODID:-//Nebraska Appleseed - ECPv6.15.20//NONSGML v1.0//EN
CALSCALE:GREGORIAN
METHOD:PUBLISH
X-WR-CALNAME:Nebraska Appleseed
X-ORIGINAL-URL:https://neappleseed.org
X-WR-CALDESC:Events for Nebraska Appleseed
REFRESH-INTERVAL;VALUE=DURATION:PT1H
X-Robots-Tag:noindex
X-PUBLISHED-TTL:PT1H
BEGIN:VTIMEZONE
TZID:America/Chicago
BEGIN:DAYLIGHT
TZOFFSETFROM:-0600
TZOFFSETTO:-0500
TZNAME:CDT
DTSTART:20210314T080000
END:DAYLIGHT
BEGIN:STANDARD
TZOFFSETFROM:-0500
TZOFFSETTO:-0600
TZNAME:CST
DTSTART:20211107T070000
END:STANDARD
BEGIN:DAYLIGHT
TZOFFSETFROM:-0600
TZOFFSETTO:-0500
TZNAME:CDT
DTSTART:20220313T080000
END:DAYLIGHT
BEGIN:STANDARD
TZOFFSETFROM:-0500
TZOFFSETTO:-0600
TZNAME:CST
DTSTART:20221106T070000
END:STANDARD
BEGIN:DAYLIGHT
TZOFFSETFROM:-0600
TZOFFSETTO:-0500
TZNAME:CDT
DTSTART:20230312T080000
END:DAYLIGHT
BEGIN:STANDARD
TZOFFSETFROM:-0500
TZOFFSETTO:-0600
TZNAME:CST
DTSTART:20231105T070000
END:STANDARD
END:VTIMEZONE
BEGIN:VEVENT
DTSTART;TZID=America/Chicago:20220920T130000
DTEND;TZID=America/Chicago:20220920T133000
DTSTAMP:20260424T123735
CREATED:20220912T183926Z
LAST-MODIFIED:20240708T151850Z
UID:40669-1663678800-1663680600@neappleseed.org
SUMMARY:Take Action Tuesday
DESCRIPTION:For this upcoming Take Action Tuesday\, we will chat about the Child Nutrition Reauthorization bill (H.R. 8450). This bill will strengthen school meal access for students and support school meal providers in Nebraska and beyond. Invite your friends\, family\, and neighbors to learn more and take action in support of this bill!
URL:https://neappleseed.org/event/take-action-tuesday-2
LOCATION:Virtual
ATTACH;FMTTYPE=image/png:https://neappleseed.org/wp-content/uploads/2022/09/take_action_tuesday_09_20_2022.png
ORGANIZER;CN="Lindsay Limbach":MAILTO:llimbach@neappleseed.org
END:VEVENT
END:VCALENDAR